BEGIN:VCALENDAR
VERSION:2.0
PRODID:-//Uhrig Designs Studio Gallery - ECPv6.15.20//NONSGML v1.0//EN
CALSCALE:GREGORIAN
METHOD:PUBLISH
X-ORIGINAL-URL:https://uhrigdesigns.com
X-WR-CALDESC:Events for Uhrig Designs Studio Gallery
REFRESH-INTERVAL;VALUE=DURATION:PT1H
X-Robots-Tag:noindex
X-PUBLISHED-TTL:PT1H
BEGIN:VTIMEZONE
TZID:America/New_York
BEGIN:DAYLIGHT
TZOFFSETFROM:-0500
TZOFFSETTO:-0400
TZNAME:EDT
DTSTART:20230312T070000
END:DAYLIGHT
BEGIN:STANDARD
TZOFFSETFROM:-0400
TZOFFSETTO:-0500
TZNAME:EST
DTSTART:20231105T060000
END:STANDARD
BEGIN:DAYLIGHT
TZOFFSETFROM:-0500
TZOFFSETTO:-0400
TZNAME:EDT
DTSTART:20240310T070000
END:DAYLIGHT
BEGIN:STANDARD
TZOFFSETFROM:-0400
TZOFFSETTO:-0500
TZNAME:EST
DTSTART:20241103T060000
END:STANDARD
BEGIN:DAYLIGHT
TZOFFSETFROM:-0500
TZOFFSETTO:-0400
TZNAME:EDT
DTSTART:20250309T070000
END:DAYLIGHT
BEGIN:STANDARD
TZOFFSETFROM:-0400
TZOFFSETTO:-0500
TZNAME:EST
DTSTART:20251102T060000
END:STANDARD
END:VTIMEZONE
BEGIN:VEVENT
DTSTART;VALUE=DATE:20240808
DTEND;VALUE=DATE:20240917
DTSTAMP:20260420T132544
CREATED:20240808T082641Z
LAST-MODIFIED:20240911T105922Z
UID:762-1723075200-1726531199@uhrigdesigns.com
SUMMARY:Pop UP Driveway Art\, Jewelry and Decor Sale
DESCRIPTION:Come check out our New Glass Decor (themes include Fall\, Nature\, Holloween and Christmas) and Handmade Jewelry Daily between 2pm-7pm (Weather permitting)\nWe also have:\nPhotographs by Gabrielle Uhrig (many taken during her time in Italy\, B&W and Color)\n\nPaintings\, Glass Art\, Glass Accessories(including bookmarks\, pens\, wine charms\, wine bottle stoppers\, ornaments\, decorative pot stakes\, hair accessories\, and other unique items)\, Jewelry (made with fused and flameworked glass\, metal\, stones\, wire-wrapping etc) by Suzette Uhrig\n\nPrints and Cards by Suzette\, Gabrielle\, and Sarah Uhrig\n\nMany items would make great Christmas or Birthday Gifts!!\n\nWe will be open most days (unless there is a major Thunderstorm Warning) in August and until Late Sept.\,  daily from 2-7 pm and other times by appointment only (Please call and give 2 days’ notice when requesting other appointment times).\n\nPlease park in driveway or on grass due to the blind hill causing it to be difficult for passing cars to see past parked cars on road.
URL:https://uhrigdesigns.com/event/pop-up-driveway-art-jewelry-and-decor-sale/
LOCATION:Uhrig Designs Art Studio\, 3247 Patchett Rd\, Baldwinsville\, NY\, 13027\, United States
CATEGORIES:Fine Art Sale,Glass Decor Sale,Handmade Jewelry Sale,Photography and Prints Sale
ATTACH;FMTTYPE=image/jpeg:https://uhrigdesigns.com/wp-content/uploads/2024/09/Suz-Glass-and-Paintings-scaled.jpg
ORGANIZER;CN="Suzette Uhrig":MAILTO:suzette@uhrigdesigns.com
END:VEVENT
END:VCALENDAR